BEGIN:VCALENDAR
VERSION:2.0
PRODID:LFV Website-Kit
METHOD:PUBLISH
BEGIN:VEVENT
UID:lfv-977666a4-a147-4d94-b720-7a7da07a661e
LOCATION:
SUMMARY:Arbeitsdienst
DESCRIPTION:Termin Link: http://www.rollhofen.de/termine/arbeitsdienst-1/
URL:http://www.rollhofen.de/termine/arbeitsdienst-1/
CLASS:PRIVATE
DTSTART;TZID=Europe/Berlin:20261017T090000
DTEND;TZID=Europe/Berlin:20261017T100000
DTSTAMP:20260421T131241Z
END:VEVENT
END:VCALENDAR