BEGIN:VCALENDAR
VERSION:2.0
PRODID:LFV Website-Kit
METHOD:PUBLISH
BEGIN:VEVENT
UID:lfv-b9f8df9a-914d-45bd-ba6e-bf01aeccbdf5
LOCATION:Am Schulhaus 1 Rollhofen
SUMMARY:Dorffest der FFW Rollhofen
DESCRIPTION:Dorffest der FFW Rollhofen\n\nTermin Link: http://www.rollhofen.de/termine/dorffest-der-ffw-rollhofen-1/
URL:http://www.rollhofen.de/termine/dorffest-der-ffw-rollhofen-1/
CLASS:PRIVATE
DTSTART;TZID=Europe/Berlin:20260604T110000
DTEND;TZID=Europe/Berlin:20260604T170000
DTSTAMP:20260420T140758Z
END:VEVENT
END:VCALENDAR