BEGIN:VCALENDAR
VERSION:2.0
PRODID:LFV Website-Kit
METHOD:PUBLISH
BEGIN:VEVENT
UID:lfv-3b9221a5-405a-47ab-8022-4c6aa3e8273e
LOCATION:Rüblandener Straße 33a Ottensoos
SUMMARY:Fest der FF Ottensoos
DESCRIPTION:vsl. Fest der FF Ottensoos\n\nTermin Link: http://www.rollhofen.de/termine/fest-der-ff-ottensoos/
URL:http://www.rollhofen.de/termine/fest-der-ff-ottensoos/
CLASS:PRIVATE
DTSTART;TZID=Europe/Berlin:20260516T140000
DTEND;TZID=Europe/Berlin:20260517T200000
DTSTAMP:20260420T105014Z
END:VEVENT
END:VCALENDAR