BEGIN:VCALENDAR
VERSION:2.0
PRODID:LFV Website-Kit
METHOD:PUBLISH
BEGIN:VEVENT
UID:lfv-79dfb9ca-132c-4ef0-9c6c-617e6166e365
LOCATION:
SUMMARY:Feuerwehrfest Günthersbühl
DESCRIPTION:125 Jahre FF Günthersbühl\n\nTermin Link: http://www.rollhofen.de/termine/feuerwehrfest-gunthersbuhl/
URL:http://www.rollhofen.de/termine/feuerwehrfest-gunthersbuhl/
CLASS:PRIVATE
DTSTART;VALUE=DATE:20260514
DTEND;VALUE=DATE:20260518
DTSTAMP:20260420T090554Z
END:VEVENT
END:VCALENDAR