BEGIN:VCALENDAR
VERSION:2.0
PRODID:LFV Website-Kit
METHOD:PUBLISH
BEGIN:VEVENT
UID:lfv-9d7ab55d-d05f-4bcc-b561-878935ff2189
LOCATION:
SUMMARY:Feuerwehrfest Kirchröttenbach
DESCRIPTION:125 + 5 Jahre FF Kirchröttenbach\n\nTermin Link: http://www.rollhofen.de/termine/feuerwehrfest-kirchrottenbach/
URL:http://www.rollhofen.de/termine/feuerwehrfest-kirchrottenbach/
CLASS:PRIVATE
DTSTART;VALUE=DATE:20260424
DTEND;VALUE=DATE:20260427
DTSTAMP:20260420T091832Z
END:VEVENT
END:VCALENDAR