BEGIN:VCALENDAR
VERSION:2.0
PRODID:LFV Website-Kit
METHOD:PUBLISH
BEGIN:VEVENT
UID:lfv-e7dd37ff-0d8b-4db4-bff2-38b277124222
LOCATION:Kersbacher Straße 14 91233 Neunkirchen
SUMMARY:Floriansfest der FF Speikern
DESCRIPTION:Floriansfest der FF Speikern\n\nTermin Link: http://www.rollhofen.de/termine/floriansfest-der-ff-speikern/
URL:http://www.rollhofen.de/termine/floriansfest-der-ff-speikern/
CLASS:PRIVATE
DTSTART;TZID=Europe/Berlin:20260718T140000
DTEND;TZID=Europe/Berlin:20260718T150000
DTSTAMP:20260420T234444Z
END:VEVENT
END:VCALENDAR