BEGIN:VCALENDAR
VERSION:2.0
PRODID:LFV Website-Kit
METHOD:PUBLISH
BEGIN:VEVENT
UID:lfv-85cbc878-ae78-4879-b779-35c0ddfae38d
LOCATION:
SUMMARY:Gemeindeübung
DESCRIPTION:Gemeindeübung\n\nTermin Link: http://www.rollhofen.de/termine/gemeindeubung-1/
URL:http://www.rollhofen.de/termine/gemeindeubung-1/
CLASS:PRIVATE
DTSTART;TZID=Europe/Berlin:20260918T180000
DTEND;TZID=Europe/Berlin:20260918T190000
DTSTAMP:20260421T065144Z
END:VEVENT
END:VCALENDAR