BEGIN:VCALENDAR
VERSION:2.0
PRODID:LFV Website-Kit
METHOD:PUBLISH
BEGIN:VEVENT
UID:lfv-363661e8-3d6d-4fc4-b3df-39ee3ee0b999
LOCATION:Dorfstraße 27 91233 Neunkirchen
SUMMARY:Grillfest der FF Kersbach - Weißenbach
DESCRIPTION:Grillfest der FF Kersbach - Weißenbach\n\nTermin Link: http://www.rollhofen.de/termine/grillfest-der-ff-kersbach-weienbach/
URL:http://www.rollhofen.de/termine/grillfest-der-ff-kersbach-weienbach/
CLASS:PRIVATE
DTSTART;TZID=Europe/Berlin:20260815T180000
DTEND;TZID=Europe/Berlin:20260816T150000
DTSTAMP:20260421T050432Z
END:VEVENT
END:VCALENDAR