BEGIN:VCALENDAR
VERSION:2.0
PRODID:LFV Website-Kit
METHOD:PUBLISH
BEGIN:VEVENT
UID:lfv-c289350b-5282-4b46-9852-ef564ccad5d1
LOCATION:Speikerner Straße 7 91233 Neunkirchen
SUMMARY:Grillfest der FF Neunkirchen
DESCRIPTION:Grillfest der FF Neunkirchen\n\nTermin Link: http://www.rollhofen.de/termine/grillfest-der-ff-neunkirchen/
URL:http://www.rollhofen.de/termine/grillfest-der-ff-neunkirchen/
CLASS:PRIVATE
DTSTART;TZID=Europe/Berlin:20260711T150000
DTEND;TZID=Europe/Berlin:20260712T130000
DTSTAMP:20260420T202109Z
END:VEVENT
END:VCALENDAR