BEGIN:VCALENDAR
VERSION:2.0
PRODID:LFV Website-Kit
METHOD:PUBLISH
BEGIN:VEVENT
UID:lfv-8fc48020-6c4d-4bf9-a01e-639a742e4eb5
LOCATION:Neunkirchener Straße 12 91207 Lauf
SUMMARY:Herbstfest der FF Heuchling
DESCRIPTION:Herbstfest der FF Heuchling\n\nTermin Link: http://www.rollhofen.de/termine/herbstfest-der-ff-heuchling/
URL:http://www.rollhofen.de/termine/herbstfest-der-ff-heuchling/
CLASS:PRIVATE
DTSTART;TZID=Europe/Berlin:20261010T170000
DTEND;TZID=Europe/Berlin:20261010T180000
DTSTAMP:20260421T113939Z
END:VEVENT
END:VCALENDAR