BEGIN:VCALENDAR
VERSION:2.0
PRODID:LFV Website-Kit
METHOD:PUBLISH
BEGIN:VEVENT
UID:lfv-acf4a3c8-da85-49b2-965a-8eec65de71c0
LOCATION:
SUMMARY:Herbstwanderung der FF Rollhofen
DESCRIPTION:Herbstwanderung der FF Rollhofen\n\nTermin Link: http://www.rollhofen.de/termine/herbstwanderung-der-ff-rollhofen-1/
URL:http://www.rollhofen.de/termine/herbstwanderung-der-ff-rollhofen-1/
CLASS:PRIVATE
DTSTART;TZID=Europe/Berlin:20261024T160000
DTEND;TZID=Europe/Berlin:20261024T170000
DTSTAMP:20260421T144729Z
END:VEVENT
END:VCALENDAR