BEGIN:VCALENDAR
VERSION:2.0
PRODID:LFV Website-Kit
METHOD:PUBLISH
BEGIN:VEVENT
UID:lfv-467cd341-a5a1-49db-ac7c-286237566ab2
LOCATION:Brückenstraße Rollhofen
SUMMARY:Kirchweih in Rollhofen
DESCRIPTION:Kirchweih in Rollhofen\n\nTermin Link: http://www.rollhofen.de/termine/kirchweih-in-rollhofen-1/
URL:http://www.rollhofen.de/termine/kirchweih-in-rollhofen-1/
CLASS:PRIVATE
DTSTART;TZID=Europe/Berlin:20260807T180000
DTEND;TZID=Europe/Berlin:20260810T230000
DTSTAMP:20260421T031753Z
END:VEVENT
END:VCALENDAR