BEGIN:VCALENDAR
VERSION:2.0
PRODID:LFV Website-Kit
METHOD:PUBLISH
BEGIN:VEVENT
UID:lfv-ed21b21d-b659-4a3c-8a91-d9d2796c6c80
LOCATION:
SUMMARY:Sommerfest Gemeinde
DESCRIPTION:Termin Link: http://www.rollhofen.de/termine/sommerfest-gemeinde/
URL:http://www.rollhofen.de/termine/sommerfest-gemeinde/
CLASS:PRIVATE
DTSTART;TZID=Europe/Berlin:20260619T190000
DTEND;TZID=Europe/Berlin:20260621T200000
DTSTAMP:20260420T171208Z
END:VEVENT
END:VCALENDAR