BEGIN:VCALENDAR
VERSION:2.0
PRODID:LFV Website-Kit
METHOD:PUBLISH
BEGIN:VEVENT
UID:lfv-25623adc-55dc-4ead-b5c6-e955b6cb6894
LOCATION:
SUMMARY:Sonnwendfeier FF Speikern
DESCRIPTION:Sonnwendfeier der FF Speikern\n\nTermin Link: http://www.rollhofen.de/termine/sonnwendfeier-ff-speikern/
URL:http://www.rollhofen.de/termine/sonnwendfeier-ff-speikern/
CLASS:PRIVATE
DTSTART;TZID=Europe/Berlin:20260613T190000
DTEND;TZID=Europe/Berlin:20260613T200000
DTSTAMP:20260420T153924Z
END:VEVENT
END:VCALENDAR