BEGIN:VCALENDAR
VERSION:2.0
PRODID:LFV Website-Kit
METHOD:PUBLISH
BEGIN:VEVENT
UID:lfv-5ad353de-1dfe-431f-82be-56373719d245
LOCATION:Wolfshöhe Neunkirchen am Sand
SUMMARY:Sonnwendfeier FFW Rollhofen
DESCRIPTION:Sonnwendfeier der FFW Rollhofen auf der Wolfshöhe\n\nTermin Link: http://www.rollhofen.de/termine/sonnwendfeier-ffw-rollhofen-2/
URL:http://www.rollhofen.de/termine/sonnwendfeier-ffw-rollhofen-2/
CLASS:PRIVATE
DTSTART;TZID=Europe/Berlin:20260626T190000
DTEND;TZID=Europe/Berlin:20260626T200000
DTSTAMP:20260420T185208Z
END:VEVENT
END:VCALENDAR