BEGIN:VCALENDAR
VERSION:2.0
PRODID:LFV Website-Kit
METHOD:PUBLISH
BEGIN:VEVENT
UID:lfv-906ed90e-984c-4b75-a7c9-0f774c44960d
LOCATION:
SUMMARY:Übung
DESCRIPTION:Termin Link: http://www.rollhofen.de/termine/ubung-2/
URL:http://www.rollhofen.de/termine/ubung-2/
CLASS:PRIVATE
DTSTART;TZID=Europe/Berlin:20260522T183000
DTEND;TZID=Europe/Berlin:20260522T193000
DTSTAMP:20260420T121627Z
END:VEVENT
END:VCALENDAR