BEGIN:VCALENDAR
VERSION:2.0
PRODID:LFV Website-Kit
METHOD:PUBLISH
BEGIN:VEVENT
UID:lfv-b4d947a3-df4c-422d-bd22-7eb1a183db30
LOCATION:
SUMMARY:Übung
DESCRIPTION:Termin Link: http://www.rollhofen.de/termine/ubung-3/
URL:http://www.rollhofen.de/termine/ubung-3/
CLASS:PRIVATE
DTSTART;TZID=Europe/Berlin:20260712T090000
DTEND;TZID=Europe/Berlin:20260712T100000
DTSTAMP:20260420T220826Z
END:VEVENT
END:VCALENDAR