BEGIN:VCALENDAR
VERSION:2.0
PRODID:LFV Website-Kit
METHOD:PUBLISH
BEGIN:VEVENT
UID:lfv-fcd0cf76-09f2-4d9c-9563-bbf6deb51b02
LOCATION:
SUMMARY:Übung
DESCRIPTION:Termin Link: http://www.rollhofen.de/termine/ubung-4/
URL:http://www.rollhofen.de/termine/ubung-4/
CLASS:PRIVATE
DTSTART;TZID=Europe/Berlin:20260731T183000
DTEND;TZID=Europe/Berlin:20260731T193000
DTSTAMP:20260421T012239Z
END:VEVENT
END:VCALENDAR