BEGIN:VCALENDAR
VERSION:2.0
PRODID:LFV Website-Kit
METHOD:PUBLISH
BEGIN:VEVENT
UID:lfv-c6ca9a27-acbc-4511-9fea-6b36b17d146b
LOCATION:
SUMMARY:Unterricht
DESCRIPTION:Termin Link: http://www.rollhofen.de/termine/unterricht-4/
URL:http://www.rollhofen.de/termine/unterricht-4/
CLASS:PRIVATE
DTSTART;TZID=Europe/Berlin:20261204T183000
DTEND;TZID=Europe/Berlin:20261204T193000
DTSTAMP:20260421T180221Z
END:VEVENT
END:VCALENDAR