BEGIN:VCALENDAR
VERSION:2.0
PRODID:LFV Website-Kit
METHOD:PUBLISH
BEGIN:VEVENT
UID:lfv-273e2623-3234-4682-afc2-6ba5a71b0a58
LOCATION:
SUMMARY:Unterricht / Übung
DESCRIPTION:Termin Link: http://www.rollhofen.de/termine/unterricht-ubung-6/
URL:http://www.rollhofen.de/termine/unterricht-ubung-6/
CLASS:PRIVATE
DTSTART;TZID=Europe/Berlin:20261002T183000
DTEND;TZID=Europe/Berlin:20261002T193000
DTSTAMP:20260421T101156Z
END:VEVENT
END:VCALENDAR