BEGIN:VCALENDAR
VERSION:2.0
PRODID:LFV Website-Kit
METHOD:PUBLISH
BEGIN:VEVENT
UID:lfv-57bcb004-0901-4359-a64f-e480a65393b9
LOCATION:
SUMMARY:Vereinsausflug der FF Rollhofen
DESCRIPTION:Termin Link: http://www.rollhofen.de/termine/vereinsausflug-der-ff-rollhofen-2/
URL:http://www.rollhofen.de/termine/vereinsausflug-der-ff-rollhofen-2/
CLASS:PRIVATE
DTSTART;TZID=Europe/Berlin:20260925T050000
DTEND;TZID=Europe/Berlin:20260927T200000
DTSTAMP:20260421T084341Z
END:VEVENT
END:VCALENDAR