BEGIN:VCALENDAR
VERSION:2.0
PRODID:LFV Website-Kit
METHOD:PUBLISH
BEGIN:VEVENT
UID:lfv-9717f99e-ea45-47d3-8466-93335c0c4742
LOCATION:
SUMMARY:Volkstrauertag
DESCRIPTION:Gedenkveranstaltung zum Volkstrauertag\n\nTermin Link: http://www.rollhofen.de/termine/volkstrauertag-1/
URL:http://www.rollhofen.de/termine/volkstrauertag-1/
CLASS:PRIVATE
DTSTART;TZID=Europe/Berlin:20261115T091500
DTEND;TZID=Europe/Berlin:20261115T101500
DTSTAMP:20260421T162723Z
END:VEVENT
END:VCALENDAR